BEGIN:VCALENDAR
VERSION:2.0
PRODID:-//Art from Ashes - ECPv6.15.3//NONSGML v1.0//EN
CALSCALE:GREGORIAN
METHOD:PUBLISH
X-WR-CALNAME:Art from Ashes
X-ORIGINAL-URL:https://artfromashes.org
X-WR-CALDESC:Events for Art from Ashes
REFRESH-INTERVAL;VALUE=DURATION:PT1H
X-Robots-Tag:noindex
X-PUBLISHED-TTL:PT1H
BEGIN:VTIMEZONE
TZID:America/Denver
BEGIN:DAYLIGHT
TZOFFSETFROM:-0700
TZOFFSETTO:-0600
TZNAME:MDT
DTSTART:20150308T090000
END:DAYLIGHT
BEGIN:STANDARD
TZOFFSETFROM:-0600
TZOFFSETTO:-0700
TZNAME:MST
DTSTART:20151101T080000
END:STANDARD
END:VTIMEZONE
BEGIN:VEVENT
DTSTART;TZID=America/Denver:20151010T130000
DTEND;TZID=America/Denver:20151010T140000
DTSTAMP:20260425T091354
CREATED:20150117T005326Z
LAST-MODIFIED:20151009T230329Z
UID:1399-1444482000-1444485600@artfromashes.org
SUMMARY:NO Coffee Hour with Catherine
DESCRIPTION:Coffee Hour is cancelled on the 10th and the 17th of October! See you on the 24th \nAs a rule\, it’s best to email director [at] artfromashes.org for confirmation (but use the typical email format… the word “at” is there because of hackers… grr…) or check our Facebook page!
URL:https://artfromashes.org/events/coffee-hour-with-catherine-2015-10-10/
LOCATION:Drip Coffee\, 955 Lincoln St.\, Denver\, CO\, 80203
CATEGORIES:Meetings
END:VEVENT
END:VCALENDAR