BEGIN:VCALENDAR
VERSION:2.0
PRODID:-//Art from Ashes - ECPv6.15.3//NONSGML v1.0//EN
CALSCALE:GREGORIAN
METHOD:PUBLISH
X-ORIGINAL-URL:https://artfromashes.org
X-WR-CALDESC:Events for Art from Ashes
REFRESH-INTERVAL;VALUE=DURATION:PT1H
X-Robots-Tag:noindex
X-PUBLISHED-TTL:PT1H
BEGIN:VTIMEZONE
TZID:America/Denver
BEGIN:DAYLIGHT
TZOFFSETFROM:-0700
TZOFFSETTO:-0600
TZNAME:MDT
DTSTART:20160313T090000
END:DAYLIGHT
BEGIN:STANDARD
TZOFFSETFROM:-0600
TZOFFSETTO:-0700
TZNAME:MST
DTSTART:20161106T080000
END:STANDARD
END:VTIMEZONE
BEGIN:VEVENT
DTSTART;TZID=America/Denver:20160205T163000
DTEND;TZID=America/Denver:20160205T193000
DTSTAMP:20260425T094947
CREATED:20160201T003813Z
LAST-MODIFIED:20160201T004034Z
UID:2901-1454689800-1454700600@artfromashes.org
SUMMARY:February First Friday
DESCRIPTION:Join us every First Friday in Denver’s Art District on Santa Fe for youth spoken word performances at the Denver Art Society at 734 Santa Fe Dr. at 7 pm. \n\nMuch more than a public performance\, youth gather at Art from Ashes at 4.30 for a FREE one-hour Phoenix Rising writing wordshop\, followed at 5.30 by a FREE 45-minute performance workshop\, featuring a local performance poet. All youth are welcome.\n \nAfA facilitators and local artists/performers guide the youth through poetry writing prompts and spoken word presentations to prepare them for their community performances. \nContact Ashley Cornelius\, Director of Programs at Art from Ashes for more information.
URL:https://artfromashes.org/events/february-first-friday/
LOCATION:Denver Art Society\, 734 Santa Fe Dr. \, Denver\, CO\, United States
END:VEVENT
END:VCALENDAR