BEGIN:VCALENDAR
VERSION:2.0
PRODID:-//Art from Ashes - ECPv6.15.3//NONSGML v1.0//EN
CALSCALE:GREGORIAN
METHOD:PUBLISH
X-ORIGINAL-URL:https://artfromashes.org
X-WR-CALDESC:Events for Art from Ashes
REFRESH-INTERVAL;VALUE=DURATION:PT1H
X-Robots-Tag:noindex
X-PUBLISHED-TTL:PT1H
BEGIN:VTIMEZONE
TZID:America/Denver
BEGIN:DAYLIGHT
TZOFFSETFROM:-0700
TZOFFSETTO:-0600
TZNAME:MDT
DTSTART:20160313T090000
END:DAYLIGHT
BEGIN:STANDARD
TZOFFSETFROM:-0600
TZOFFSETTO:-0700
TZNAME:MST
DTSTART:20161106T080000
END:STANDARD
END:VTIMEZONE
BEGIN:VEVENT
DTSTART;TZID=America/Denver:20160227T140000
DTEND;TZID=America/Denver:20160227T220000
DTSTAMP:20260423T204515
CREATED:20160208T190714Z
LAST-MODIFIED:20160208T190714Z
UID:3067-1456581600-1456610400@artfromashes.org
SUMMARY:Tattoos and Poetry-All Sacred Foundation
DESCRIPTION:The February Fundraiser will be held at Phoenix Multisport\, 2233 Champa St in Denver. \nALL SACRED FOUNDATION is a non-profit fundraising collective based in Denver. They are a collective of tattoo artists from all over the Denver metro area that strive to benefit the community. \nJoin us for Tattoos and Poetry: all proceeds benefit three area nonprofits\, including Art from Ashes!
URL:https://artfromashes.org/events/allsacred-0227/
LOCATION:Phoenix Multisport\, 2233 Champa St\, Denver\, CO\, 80205\, United States
CATEGORIES:All Sacred Tattoos and Poetry,Events
ORGANIZER;CN="Aries Rhysing":MAILTO:info@allsacredfoundation.org
END:VEVENT
END:VCALENDAR