BEGIN:VCALENDAR
VERSION:2.0
PRODID:-//Art from Ashes - ECPv6.15.3//NONSGML v1.0//EN
CALSCALE:GREGORIAN
METHOD:PUBLISH
X-ORIGINAL-URL:https://artfromashes.org
X-WR-CALDESC:Events for Art from Ashes
REFRESH-INTERVAL;VALUE=DURATION:PT1H
X-Robots-Tag:noindex
X-PUBLISHED-TTL:PT1H
BEGIN:VTIMEZONE
TZID:America/Denver
BEGIN:DAYLIGHT
TZOFFSETFROM:-0700
TZOFFSETTO:-0600
TZNAME:MDT
DTSTART:20160313T090000
END:DAYLIGHT
BEGIN:STANDARD
TZOFFSETFROM:-0600
TZOFFSETTO:-0700
TZNAME:MST
DTSTART:20161106T080000
END:STANDARD
END:VTIMEZONE
BEGIN:VEVENT
DTSTART;TZID=America/Denver:20160312T130000
DTEND;TZID=America/Denver:20160312T140000
DTSTAMP:20260423T120949
CREATED:20150117T005326Z
LAST-MODIFIED:20160312T150557Z
UID:3004-1457787600-1457791200@artfromashes.org
SUMMARY:Coffee Hour with Catherine-CANCELLED
DESCRIPTION:Catherine will not have Coffee Hour today\, because she’s been invited to represent Art from Ashes on a panel about Social Justice issues for DU. The Counselors for Social Justice\, a student-led group associated with the Master of Counseling program at University of Colorado Denver is working with another student organization on campus\, Chi Sigma Iota\, to promote social justice within the counseling field. Woot!
URL:https://artfromashes.org/events/coffee-hour-with-catherine-2016-03-12/
LOCATION:Drip Coffee\, 955 Lincoln St.\, Denver\, CO\, 80203
CATEGORIES:Meetings
END:VEVENT
END:VCALENDAR