BEGIN:VCALENDAR
VERSION:2.0
PRODID:-//Art from Ashes - ECPv6.15.3//NONSGML v1.0//EN
CALSCALE:GREGORIAN
METHOD:PUBLISH
X-WR-CALNAME:Art from Ashes
X-ORIGINAL-URL:https://artfromashes.org
X-WR-CALDESC:Events for Art from Ashes
REFRESH-INTERVAL;VALUE=DURATION:PT1H
X-Robots-Tag:noindex
X-PUBLISHED-TTL:PT1H
BEGIN:VTIMEZONE
TZID:America/Denver
BEGIN:DAYLIGHT
TZOFFSETFROM:-0700
TZOFFSETTO:-0600
TZNAME:MDT
DTSTART:20160313T090000
END:DAYLIGHT
BEGIN:STANDARD
TZOFFSETFROM:-0600
TZOFFSETTO:-0700
TZNAME:MST
DTSTART:20161106T080000
END:STANDARD
END:VTIMEZONE
BEGIN:VEVENT
DTSTART;VALUE=DATE:20160416
DTEND;VALUE=DATE:20160418
DTSTAMP:20260423T163344
CREATED:20160226T191748Z
LAST-MODIFIED:20160226T193357Z
UID:3089-1460764800-1460937599@artfromashes.org
SUMMARY:Agency Retreat
DESCRIPTION:Each year\, the Art from Ashes staff\, board of directors\, and select contractors\, volunteers and advisors\, gather to review the 1-year\, 3-year\, and 5-year strategy and existing budget. Oh yea\, and we also have lots of fun! \nConsequently the office will be closed on Monday\, April 18. \nLet us know if you have any suggestions or comments for us to review this year! \n[vfb id=’5′] \n 
URL:https://artfromashes.org/events/agency-retreat/
LOCATION:Colorado
CATEGORIES:Meetings
END:VEVENT
BEGIN:VEVENT
DTSTART;TZID=America/Denver:20160416T130000
DTEND;TZID=America/Denver:20160416T140000
DTSTAMP:20260423T163344
CREATED:20150117T005326Z
LAST-MODIFIED:20160226T191227Z
UID:3009-1460811600-1460815200@artfromashes.org
SUMMARY:Coffee Hour with Catherine-CANCELLED!
DESCRIPTION:This week’s Meet and Greet with Catherine O’Neill Thorn\, Executive Director of Art from Ashes\, has been cancelled due to our weekend-long annual agency retreat. See you next week!
URL:https://artfromashes.org/events/coffee-hour-with-catherine-2016-04-16/
LOCATION:Drip Coffee\, 955 Lincoln St.\, Denver\, CO\, 80203
CATEGORIES:Meetings
END:VEVENT
END:VCALENDAR