BEGIN:VCALENDAR
VERSION:2.0
PRODID:-//Art from Ashes - ECPv6.15.3//NONSGML v1.0//EN
CALSCALE:GREGORIAN
METHOD:PUBLISH
X-WR-CALNAME:Art from Ashes
X-ORIGINAL-URL:https://artfromashes.org
X-WR-CALDESC:Events for Art from Ashes
REFRESH-INTERVAL;VALUE=DURATION:PT1H
X-Robots-Tag:noindex
X-PUBLISHED-TTL:PT1H
BEGIN:VTIMEZONE
TZID:America/Denver
BEGIN:DAYLIGHT
TZOFFSETFROM:-0700
TZOFFSETTO:-0600
TZNAME:MDT
DTSTART:20160313T090000
END:DAYLIGHT
BEGIN:STANDARD
TZOFFSETFROM:-0600
TZOFFSETTO:-0700
TZNAME:MST
DTSTART:20161106T080000
END:STANDARD
END:VTIMEZONE
BEGIN:VEVENT
DTSTART;TZID=America/Denver:20160528T130000
DTEND;TZID=America/Denver:20160528T140000
DTSTAMP:20260422T223403
CREATED:20150117T005326Z
LAST-MODIFIED:20160523T010656Z
UID:3015-1464440400-1464444000@artfromashes.org
SUMMARY:Coffee Hour with Catherine-Cancelled
DESCRIPTION:This Saturday’s Coffee Hour with Catherine is cancelled due to a weekend-long training.
URL:https://artfromashes.org/events/coffee-hour-with-catherine-2016-05-28/
LOCATION:Drip Coffee\, 955 Lincoln St.\, Denver\, CO\, 80203
CATEGORIES:Meetings
END:VEVENT
END:VCALENDAR