BEGIN:VCALENDAR
VERSION:2.0
PRODID:-//Art from Ashes - ECPv6.15.3//NONSGML v1.0//EN
CALSCALE:GREGORIAN
METHOD:PUBLISH
X-ORIGINAL-URL:https://artfromashes.org
X-WR-CALDESC:Events for Art from Ashes
REFRESH-INTERVAL;VALUE=DURATION:PT1H
X-Robots-Tag:noindex
X-PUBLISHED-TTL:PT1H
BEGIN:VTIMEZONE
TZID:America/Denver
BEGIN:DAYLIGHT
TZOFFSETFROM:-0700
TZOFFSETTO:-0600
TZNAME:MDT
DTSTART:20160313T090000
END:DAYLIGHT
BEGIN:STANDARD
TZOFFSETFROM:-0600
TZOFFSETTO:-0700
TZNAME:MST
DTSTART:20161106T080000
END:STANDARD
END:VTIMEZONE
BEGIN:VEVENT
DTSTART;TZID=America/Denver:20161004T180000
DTEND;TZID=America/Denver:20161004T193000
DTSTAMP:20260421T102555
CREATED:20160226T194004Z
LAST-MODIFIED:20160601T183036Z
UID:3091-1475604000-1475609400@artfromashes.org
SUMMARY:Adult Synesthesia-Oct-Nov
DESCRIPTION:Poetry prompts focus on each of the five senses\, using science and creativity to illuminate the role of experience and expectation in our lives. By deliberately managing your perceptions\, you can choose to perceive yourself and what happens to you differently. Discover how powerful your life can be\, when you begin to influence reality by changing your perceptions! \nJoin and pay here: adult-workshops
URL:https://artfromashes.org/events/synesthesia/
LOCATION:Art from Ashes\, 1310 West 10th Ave\, Denver\, Colorado\, 80204
CATEGORIES:Adult Workshops,Workshops
END:VEVENT
END:VCALENDAR