BEGIN:VCALENDAR
VERSION:2.0
PRODID:-//Art from Ashes - ECPv6.15.3//NONSGML v1.0//EN
CALSCALE:GREGORIAN
METHOD:PUBLISH
X-WR-CALNAME:Art from Ashes
X-ORIGINAL-URL:https://artfromashes.org
X-WR-CALDESC:Events for Art from Ashes
REFRESH-INTERVAL;VALUE=DURATION:PT1H
X-Robots-Tag:noindex
X-PUBLISHED-TTL:PT1H
BEGIN:VTIMEZONE
TZID:America/Denver
BEGIN:DAYLIGHT
TZOFFSETFROM:-0700
TZOFFSETTO:-0600
TZNAME:MDT
DTSTART:20160313T090000
END:DAYLIGHT
BEGIN:STANDARD
TZOFFSETFROM:-0600
TZOFFSETTO:-0700
TZNAME:MST
DTSTART:20161106T080000
END:STANDARD
END:VTIMEZONE
BEGIN:VEVENT
DTSTART;TZID=America/Denver:20161107T180000
DTEND;TZID=America/Denver:20161107T193000
DTSTAMP:20260421T181538
CREATED:20161106T222131Z
LAST-MODIFIED:20161106T222131Z
UID:3979-1478541600-1478547000@artfromashes.org
SUMMARY:Volunteer Meeting
DESCRIPTION:  \n\n\nIt’s  It’s time for the agency-wide monthly meeting!\nWe have so much going down this month\, please make time to attend as we plan our move and our next event!
URL:https://artfromashes.org/events/volunteer-meeting/
LOCATION:Art from Ashes\, 1310 West 10th Ave\, Denver\, Colorado\, 80204
END:VEVENT
END:VCALENDAR