BEGIN:VCALENDAR
VERSION:2.0
PRODID:-//Art from Ashes - ECPv6.15.3//NONSGML v1.0//EN
CALSCALE:GREGORIAN
METHOD:PUBLISH
X-ORIGINAL-URL:https://artfromashes.org
X-WR-CALDESC:Events for Art from Ashes
REFRESH-INTERVAL;VALUE=DURATION:PT1H
X-Robots-Tag:noindex
X-PUBLISHED-TTL:PT1H
BEGIN:VTIMEZONE
TZID:America/Denver
BEGIN:DAYLIGHT
TZOFFSETFROM:-0700
TZOFFSETTO:-0600
TZNAME:MDT
DTSTART:20160313T090000
END:DAYLIGHT
BEGIN:STANDARD
TZOFFSETFROM:-0600
TZOFFSETTO:-0700
TZNAME:MST
DTSTART:20161106T080000
END:STANDARD
END:VTIMEZONE
BEGIN:VEVENT
DTSTART;TZID=America/Denver:20161119T100000
DTEND;TZID=America/Denver:20161119T113000
DTSTAMP:20260421T061102
CREATED:20161115T021047Z
LAST-MODIFIED:20161115T021047Z
UID:4050-1479549600-1479555000@artfromashes.org
SUMMARY:Volunteer Orientation
DESCRIPTION:If you’ve filled out a volunteer application [here] and contacted our volunteer coordinator [here]\, please join us from 10 to 11.30 a.m. for an orientation!
URL:https://artfromashes.org/events/volunteer-orientation-2/
LOCATION:Art from Ashes\, 1310 West 10th Ave\, Denver\, Colorado\, 80204
CATEGORIES:Meetings
END:VEVENT
END:VCALENDAR