BEGIN:VCALENDAR
VERSION:2.0
PRODID:-//Art from Ashes - ECPv6.15.3//NONSGML v1.0//EN
CALSCALE:GREGORIAN
METHOD:PUBLISH
X-ORIGINAL-URL:https://artfromashes.org
X-WR-CALDESC:Events for Art from Ashes
REFRESH-INTERVAL;VALUE=DURATION:PT1H
X-Robots-Tag:noindex
X-PUBLISHED-TTL:PT1H
BEGIN:VTIMEZONE
TZID:America/Denver
BEGIN:DAYLIGHT
TZOFFSETFROM:-0700
TZOFFSETTO:-0600
TZNAME:MDT
DTSTART:20160313T090000
END:DAYLIGHT
BEGIN:STANDARD
TZOFFSETFROM:-0600
TZOFFSETTO:-0700
TZNAME:MST
DTSTART:20161106T080000
END:STANDARD
END:VTIMEZONE
BEGIN:VEVENT
DTSTART;TZID=America/Denver:20161206T183000
DTEND;TZID=America/Denver:20161206T210000
DTSTAMP:20260421T061116
CREATED:20141107T231759Z
LAST-MODIFIED:20161121T061758Z
UID:1088-1481049000-1481058000@artfromashes.org
SUMMARY:Annual Appaloosa Grill Holiday Party
DESCRIPTION:Celebrate Colorado Gives Day and connect with your creative soul and your community at the Art from Ashes Holiday Party at Appaloosa Grill. \nYou will be inspired by talented local poets as well as the talented Phoenix Rising youth poets. In addition to enjoying spoken word performances and tunes by DJ Check One\, you can purchase drinks and enjoy delicious complimentary appetizers\, courtesy of the great folks at Appaloosa Grill. Proceeds from the event will be used to support Art from Ashes youth programs. \nWe look forward to seeing you and your friends on Tuesday\, Dec 6 from 6:30 to 9 pm @ Appaloosa Grill on the 16th Street Mall. \nIf you can’t make it to the party\, but wish to make a Colorado Gives Day contribution to Art from Ashes\, you can do so here\, any time before midnight on Dec. 6th! Just select the button that says CO GIVES DAY when donating. And thank you!!
URL:https://artfromashes.org/events/annual-appaloosa-grill-holiday-party/
LOCATION:Appaloosa Grill\, 535 16th St.\, Denver\, CO\, 80202
CATEGORIES:Events
END:VEVENT
END:VCALENDAR