BEGIN:VCALENDAR
VERSION:2.0
PRODID:-//Art from Ashes - ECPv6.15.3//NONSGML v1.0//EN
CALSCALE:GREGORIAN
METHOD:PUBLISH
X-WR-CALNAME:Art from Ashes
X-ORIGINAL-URL:https://artfromashes.org
X-WR-CALDESC:Events for Art from Ashes
REFRESH-INTERVAL;VALUE=DURATION:PT1H
X-Robots-Tag:noindex
X-PUBLISHED-TTL:PT1H
BEGIN:VTIMEZONE
TZID:America/Denver
BEGIN:DAYLIGHT
TZOFFSETFROM:-0700
TZOFFSETTO:-0600
TZNAME:MDT
DTSTART:20160313T090000
END:DAYLIGHT
BEGIN:STANDARD
TZOFFSETFROM:-0600
TZOFFSETTO:-0700
TZNAME:MST
DTSTART:20161106T080000
END:STANDARD
END:VTIMEZONE
BEGIN:VEVENT
DTSTART;VALUE=DATE:20161228
DTEND;VALUE=DATE:20161231
DTSTAMP:20260421T192529
CREATED:20161210T215900Z
LAST-MODIFIED:20161212T202757Z
UID:4330-1482883200-1483142399@artfromashes.org
SUMMARY:All Day Moving
DESCRIPTION:Art from Ashes is moving! We need help packing up everything in our office and getting it to our new home at 10th and Navajo by the light rail. There is a lot of work ahead of us\, while at the same time trying to handle workshops\, grants and the day-to-day craziness that comes with running a nonprofit. The move is only 5 blocks from our current location at 853 Inca St. to 1301 West 10th Ave\, but there’s SO MUCH STUFF!! \nIf you can donate a few hours to help out\, please sign up here! (There are multiple days/shifts from which to choose.)
URL:https://artfromashes.org/events/all-day-moving/
LOCATION:Art from Ashes\, 1310 West 10th Ave\, Denver\, Colorado\, 80204
CATEGORIES:Events
END:VEVENT
END:VCALENDAR