BEGIN:VCALENDAR
VERSION:2.0
PRODID:-//Art from Ashes - ECPv6.15.3//NONSGML v1.0//EN
CALSCALE:GREGORIAN
METHOD:PUBLISH
X-ORIGINAL-URL:https://artfromashes.org
X-WR-CALDESC:Events for Art from Ashes
REFRESH-INTERVAL;VALUE=DURATION:PT1H
X-Robots-Tag:noindex
X-PUBLISHED-TTL:PT1H
BEGIN:VTIMEZONE
TZID:America/Denver
BEGIN:DAYLIGHT
TZOFFSETFROM:-0700
TZOFFSETTO:-0600
TZNAME:MDT
DTSTART:20240310T090000
END:DAYLIGHT
BEGIN:STANDARD
TZOFFSETFROM:-0600
TZOFFSETTO:-0700
TZNAME:MST
DTSTART:20241103T080000
END:STANDARD
END:VTIMEZONE
BEGIN:VEVENT
DTSTART;TZID=America/Denver:20240601T130000
DTEND;TZID=America/Denver:20240601T140000
DTSTAMP:20260419T113945
CREATED:20240529T200712Z
LAST-MODIFIED:20240530T191810Z
UID:20093-1717246800-1717250400@artfromashes.org
SUMMARY:AfA Youth Poets Performing at the 35th Anniversary Poetry Rodeo
DESCRIPTION:Join Art from Ashes on June 1st at The Mercury Café for the 35th Annual Poetry Rodeo. This day-long spoken word festival runs from 10am to 11pm and offers a wide range of literary activities\, including workshops\, featured readers\, open mics\, showcases of writer organizations\, a small press display\, and multi-dynamic musical and theatrical poetry presentations. Performances will take place on all three stages at The Mercury Cafe\, making it the biggest yet! \nAt 1 pm\, AfA youth poets will perform\, and Art from Ashes’ very own Executive Director\, Jessica Jarrard\, will lead one of our intuitive 3-minute poetry prompts. \nThere is a suggested donation of $10 to attend the full day of performances. Youth under the age of 18 get in for free.
URL:https://artfromashes.org/events/afa-youth-poets-performing-at-the-35th-anniversary-poetry-rodeo/
LOCATION:Mercury Café\, 2199 California St.\, Denver\, CO\, 80205
CATEGORIES:Events
ATTACH;FMTTYPE=image/jpeg:https://artfromashes.org/wp-content/uploads/2024/05/Unknown-1.jpeg
END:VEVENT
END:VCALENDAR