BEGIN:VCALENDAR
VERSION:2.0
PRODID:-//Art from Ashes - ECPv6.15.3//NONSGML v1.0//EN
CALSCALE:GREGORIAN
METHOD:PUBLISH
X-WR-CALNAME:Art from Ashes
X-ORIGINAL-URL:https://artfromashes.org
X-WR-CALDESC:Events for Art from Ashes
REFRESH-INTERVAL;VALUE=DURATION:PT1H
X-Robots-Tag:noindex
X-PUBLISHED-TTL:PT1H
BEGIN:VTIMEZONE
TZID:America/Denver
BEGIN:DAYLIGHT
TZOFFSETFROM:-0700
TZOFFSETTO:-0600
TZNAME:MDT
DTSTART:20240310T090000
END:DAYLIGHT
BEGIN:STANDARD
TZOFFSETFROM:-0600
TZOFFSETTO:-0700
TZNAME:MST
DTSTART:20241103T080000
END:STANDARD
END:VTIMEZONE
BEGIN:VEVENT
DTSTART;TZID=America/Denver:20240806T170000
DTEND;TZID=America/Denver:20240806T200000
DTSTAMP:20260419T114006
CREATED:20240731T033448Z
LAST-MODIFIED:20240731T033448Z
UID:20385-1722963600-1722974400@artfromashes.org
SUMMARY:Woods Boss Brewing Company
DESCRIPTION:Join us Monday\, August 6 from 5-8 pm at Woods Boss Brewing (2210 California St\, Denver\, CO) for some poetry and pints! Woods Boss Brewing is donating proceeds from all beers sold during the event to Art from Ashes. Come on down\, invite a friend\, order a pint\, hear some poems\, and meet some Art from Ashes folks! \n 
URL:https://artfromashes.org/events/woods-boss-brewing-company/
LOCATION:Woods Boss Brewery\, 2210 California St\, Denver\, CO\, United States
CATEGORIES:Events,Public Events
ATTACH;FMTTYPE=image/png:https://artfromashes.org/wp-content/uploads/2024/07/Save-the-date-2.png
END:VEVENT
END:VCALENDAR