BEGIN:VCALENDAR
VERSION:2.0
PRODID:-//Art from Ashes - ECPv6.15.3//NONSGML v1.0//EN
CALSCALE:GREGORIAN
METHOD:PUBLISH
X-ORIGINAL-URL:https://artfromashes.org
X-WR-CALDESC:Events for Art from Ashes
REFRESH-INTERVAL;VALUE=DURATION:PT1H
X-Robots-Tag:noindex
X-PUBLISHED-TTL:PT1H
BEGIN:VTIMEZONE
TZID:America/Denver
BEGIN:DAYLIGHT
TZOFFSETFROM:-0700
TZOFFSETTO:-0600
TZNAME:MDT
DTSTART:20150308T090000
END:DAYLIGHT
BEGIN:STANDARD
TZOFFSETFROM:-0600
TZOFFSETTO:-0700
TZNAME:MST
DTSTART:20151101T080000
END:STANDARD
END:VTIMEZONE
BEGIN:VEVENT
DTSTART;TZID=America/Denver:20151208T180000
DTEND;TZID=America/Denver:20151208T210000
DTSTAMP:20260424T032051
CREATED:20151123T051550Z
LAST-MODIFIED:20151123T055801Z
UID:2641-1449597600-1449608400@artfromashes.org
SUMMARY:2015 Appaloosa Grill Holiday Party!
DESCRIPTION:Celebrate Colorado Gives Day and connect with your creative soul and your community at the 6th Annual Art from Ashes Holiday Party at Appaloosa Grill. \nYou will be inspired by talented local poets as well as the brilliant Phoenix Rising youth poets. In addition to enjoying spoken word performances and tunes by DJ Check One\, you can purchase drinks and enjoy delicious complimentary appetizers\, courtesy of the great folks at Appaloosa Grill. Proceeds from the event will be used to support Art from Ashes youth programs. \nWe look forward to seeing you and your friends on Colorado Gives Day\, Tuesday\, Dec 8 from 6 to 9 pm @ Appaloosa Grill on the 16th Street Mall. \nIf you can’t make it to the party\, but wish to make a Colorado Gives Day contribution to Art from Ashes\, you can do so here\, any time before midnight on Dec. 8th! Just select the button that says CO GIVES DAY when donating. And thank you for helping the beautiful and struggling youth in our community believe in their value!!  \n[slideshow_deploy id=’2646′]
URL:https://artfromashes.org/events/holiday-party/
LOCATION:Appaloosa Grill\, 535 16th St.\, Denver\, CO\, 80202
CATEGORIES:Events
END:VEVENT
BEGIN:VEVENT
DTSTART;TZID=America/Denver:20151212T130000
DTEND;TZID=America/Denver:20151212T140000
DTSTAMP:20260424T032051
CREATED:20150117T005326Z
LAST-MODIFIED:20151212T185000Z
UID:1408-1449925200-1449928800@artfromashes.org
SUMMARY:NO Coffee Hour with Catherine!
DESCRIPTION:  \nSNOW DAY!
URL:https://artfromashes.org/events/coffee-hour-with-catherine-2015-12-12/
LOCATION:Drip Coffee\, 955 Lincoln St.\, Denver\, CO\, 80203
CATEGORIES:Meetings
END:VEVENT
END:VCALENDAR