BEGIN:VCALENDAR
VERSION:2.0
PRODID:-//Art from Ashes - ECPv6.15.3//NONSGML v1.0//EN
CALSCALE:GREGORIAN
METHOD:PUBLISH
X-ORIGINAL-URL:https://artfromashes.org
X-WR-CALDESC:Events for Art from Ashes
REFRESH-INTERVAL;VALUE=DURATION:PT1H
X-Robots-Tag:noindex
X-PUBLISHED-TTL:PT1H
BEGIN:VTIMEZONE
TZID:America/Denver
BEGIN:DAYLIGHT
TZOFFSETFROM:-0700
TZOFFSETTO:-0600
TZNAME:MDT
DTSTART:20160313T090000
END:DAYLIGHT
BEGIN:STANDARD
TZOFFSETFROM:-0600
TZOFFSETTO:-0700
TZNAME:MST
DTSTART:20161106T080000
END:STANDARD
END:VTIMEZONE
BEGIN:VEVENT
DTSTART;TZID=America/Denver:20160503T180000
DTEND;TZID=America/Denver:20160503T193000
DTSTAMP:20260422T112121
CREATED:20160502T024344Z
LAST-MODIFIED:20160502T024546Z
UID:3177-1462298400-1462303800@artfromashes.org
SUMMARY:Adult Introductory May-June
DESCRIPTION:The Phoenix Rising process is designed to allow participants to recognize their inherent creative power and how perception affects our identity and our reality. Art from Ashes uses the latest research in left-brain/right-brain functioning and the role of creativity in transformation to encourage participants to access the creative subconscious and the power available through artistic expression. The introductory workshop allows adults to experience the same curriculum delivered to the youth participants and find their own power through creative expression and personal transformation. \nWorkshops are limited to six people. \nThe investment in adult workshops of $175 per 6-week series helps support our work with youth. \nVisit out Adult Workshops page to sign up: adult-workshops
URL:https://artfromashes.org/events/adult-intro-may/
LOCATION:Art from Ashes\, 1310 West 10th Ave\, Denver\, Colorado\, 80204
CATEGORIES:Adult Workshops,Workshops
END:VEVENT
BEGIN:VEVENT
DTSTART;TZID=America/Denver:20160506T183000
DTEND;TZID=America/Denver:20160506T193000
DTSTAMP:20260422T112121
CREATED:20160501T202352Z
LAST-MODIFIED:20160501T202352Z
UID:3162-1462559400-1462563000@artfromashes.org
SUMMARY:May First Friday
DESCRIPTION:Join us every First Friday in Denver’s Art District on Santa Fe for youth spoken word performances at different venues on Santa Fe Dr. between 6.30 and 7 pm. \n\nMuch more than a public performance\, youth gather at Art from Ashes at 4.30 for a FREE one-hour Phoenix Rising writing wordshop\, followed at 5.30 by a FREE 45-minute performance workshop\, featuring a local performance poet. All youth are welcome.\n \nAfA facilitators and local artists/performers guide the youth through poetry writing prompts and spoken word presentations to prepare them for their community performances. \nContact Courtney Chandler\, Director of Programs at Art from Ashes for more information.
URL:https://artfromashes.org/events/may-first-friday/
LOCATION:Art from Ashes\, 1310 West 10th Ave\, Denver\, Colorado\, 80204
END:VEVENT
BEGIN:VEVENT
DTSTART;TZID=America/Denver:20160528T130000
DTEND;TZID=America/Denver:20160528T140000
DTSTAMP:20260422T112121
CREATED:20150117T005326Z
LAST-MODIFIED:20160523T010656Z
UID:3015-1464440400-1464444000@artfromashes.org
SUMMARY:Coffee Hour with Catherine-Cancelled
DESCRIPTION:This Saturday’s Coffee Hour with Catherine is cancelled due to a weekend-long training.
URL:https://artfromashes.org/events/coffee-hour-with-catherine-2016-05-28/
LOCATION:Drip Coffee\, 955 Lincoln St.\, Denver\, CO\, 80203
CATEGORIES:Meetings
END:VEVENT
BEGIN:VEVENT
DTSTART;TZID=America/Denver:20160531T173000
DTEND;TZID=America/Denver:20160531T181500
DTSTAMP:20260422T112121
CREATED:20160530T232301Z
LAST-MODIFIED:20160530T232358Z
UID:3426-1464715800-1464718500@artfromashes.org
SUMMARY:SCFD Interview: Denver
DESCRIPTION:Content is protected.
URL:https://artfromashes.org/events/scfd-interview-denver/
LOCATION:Colorado
END:VEVENT
END:VCALENDAR