BEGIN:VCALENDAR
VERSION:2.0
PRODID:-//Art from Ashes - ECPv6.15.3//NONSGML v1.0//EN
CALSCALE:GREGORIAN
METHOD:PUBLISH
X-WR-CALNAME:Art from Ashes
X-ORIGINAL-URL:https://artfromashes.org
X-WR-CALDESC:Events for Art from Ashes
REFRESH-INTERVAL;VALUE=DURATION:PT1H
X-Robots-Tag:noindex
X-PUBLISHED-TTL:PT1H
BEGIN:VTIMEZONE
TZID:America/Denver
BEGIN:DAYLIGHT
TZOFFSETFROM:-0700
TZOFFSETTO:-0600
TZNAME:MDT
DTSTART:20160313T090000
END:DAYLIGHT
BEGIN:STANDARD
TZOFFSETFROM:-0600
TZOFFSETTO:-0700
TZNAME:MST
DTSTART:20161106T080000
END:STANDARD
END:VTIMEZONE
BEGIN:VEVENT
DTSTART;TZID=America/Denver:20160604T130000
DTEND;TZID=America/Denver:20160604T140000
DTSTAMP:20260421T194148
CREATED:20150117T005326Z
LAST-MODIFIED:20160523T011109Z
UID:3016-1465045200-1465048800@artfromashes.org
SUMMARY:Coffee Hour with Catherine-Cancelled
DESCRIPTION:Coffee Hour with Catherine is cancelled\, as she will be out of town this weekend!
URL:https://artfromashes.org/events/coffee-hour-with-catherine-2016-06-04/
LOCATION:Drip Coffee\, 955 Lincoln St.\, Denver\, CO\, 80203
CATEGORIES:Meetings
END:VEVENT
BEGIN:VEVENT
DTSTART;TZID=America/Denver:20160608T190000
DTEND;TZID=America/Denver:20160608T223000
DTSTAMP:20260421T194148
CREATED:20160501T205204Z
LAST-MODIFIED:20160620T201115Z
UID:3172-1465412400-1465425000@artfromashes.org
SUMMARY:Poetry & Pints
DESCRIPTION:CHEERS FOR POETRY AND CREATIVITY!\n \nCome have a beer\, listen to some great music\, and enjoy guest poets and spoken word artists\, while supporting our life-changing youth programs! \nThe evening will feature guest performances by musicians Rick Gibbins\, Alex Buis\, Sarah Jones and the band Stay Tuned. \nFeatured poet will be Angela Nicole plus readings by the Art from Ashes youth poets! \nSupport struggling youth in our community by listening to their words\, enjoying the show\, noshing on some great food\, and if you stay until 10 pm\, you’ll be there for Happy Hour 2-for-1 specials! \nLet us know you’re coming on Facebook or just show up and join in! \n[table id=2-column /] \n‪#‎humpday‬ ‪#‎PoetryandPints‬ ‪#‎ArtfromAshes‬
URL:https://artfromashes.org/events/poetry-pints/
LOCATION:The Irish Snug\, 1201 East Colfax Ave\, Denver\, 80218
CATEGORIES:Events,Public Events
END:VEVENT
BEGIN:VEVENT
DTSTART;TZID=America/Denver:20160618T130000
DTEND;TZID=America/Denver:20160618T140000
DTSTAMP:20260421T194148
CREATED:20150117T005326Z
LAST-MODIFIED:20160617T233117Z
UID:3018-1466254800-1466258400@artfromashes.org
SUMMARY:Coffee Hour with Catherine-Cancelled
DESCRIPTION:Meet and Greet with Catherine O’Neill Thorn\, Executive Director of Art from Ashes\, who’ll be available for questions and conversation [almost] every Saturday from 1-2 pm* \nThis Saturday is cancelled. \n\n\nAfA will be representing and bringing the love at Denver PRIDE! Stop by our booth at the SCFD Family tent — SE corner of 14th and Broadway and give our volunteers and facilitators a hug!
URL:https://artfromashes.org/events/coffee-hour-with-catherine-2016-06-18/
LOCATION:Drip Coffee\, 955 Lincoln St.\, Denver\, CO\, 80203
CATEGORIES:Meetings
END:VEVENT
BEGIN:VEVENT
DTSTART;TZID=America/Denver:20160625T140000
DTEND;TZID=America/Denver:20160625T220000
DTSTAMP:20260421T194148
CREATED:20160613T231556Z
LAST-MODIFIED:20160613T231556Z
UID:3537-1466863200-1466892000@artfromashes.org
SUMMARY:Tattoos & Poetry-June
DESCRIPTION:All Sacred Foundation is a group of artists and creatives disrupting the tattoo industry. Committed to community betterment\, they “tattoo with heart.” Once a month\, All Sacred Foundation provides tattoos to the public and donates all proceeds to three area nonprofits\, including Art from Ashes!\n\nThere’s also a party. And youth poets. So get your tat on and support the youth!
URL:https://artfromashes.org/events/tattoos-poetry-june/
LOCATION:All Sacred Foundation\, 7700 W 44th\, Wheat Ridge\, CO
END:VEVENT
BEGIN:VEVENT
DTSTART;TZID=America/Denver:20160626T153000
DTEND;TZID=America/Denver:20160626T170000
DTSTAMP:20260421T194148
CREATED:20160523T053426Z
LAST-MODIFIED:20160523T053650Z
UID:3309-1466955000-1466960400@artfromashes.org
SUMMARY:Yoga & Poetry 2016
DESCRIPTION:Join us for a 60-minute ALL levels vinyasa yoga class led by Courtney Chandler\, followed by a 30-minute poetry workshop\, with writing prompts focusing on creative empowerment. \nRequested donation is $20\, which will go straight toward funding Art from Ashes youth programs! \nThis blissful vinyasa class/workshop focuses on creating harmony in the body\, mind\, and spirit\, to explore and encourage inner creativity and self-expression. You will pair breath to movement as you flow mindfully for a 60-minute all-levels vinyasa. A 30-minute poetry workshop will be facilitated immediately following the yoga asana\, allowing opportunity for a deeper exploration of self-expression to unfold. This class will have you moving\, breathing\, writing\, and creating a personally meaningful artistic expression! Don’t miss it!
URL:https://artfromashes.org/events/yoga-poetry-2016/
LOCATION:Power of Om\, 4926 E. Colfax\, Denver\, 80220
CATEGORIES:Events,Public Events,Workshops
END:VEVENT
END:VCALENDAR