BEGIN:VCALENDAR
VERSION:2.0
PRODID:-//Art from Ashes - ECPv6.15.3//NONSGML v1.0//EN
CALSCALE:GREGORIAN
METHOD:PUBLISH
X-WR-CALNAME:Art from Ashes
X-ORIGINAL-URL:https://artfromashes.org
X-WR-CALDESC:Events for Art from Ashes
REFRESH-INTERVAL;VALUE=DURATION:PT1H
X-Robots-Tag:noindex
X-PUBLISHED-TTL:PT1H
BEGIN:VTIMEZONE
TZID:America/Denver
BEGIN:DAYLIGHT
TZOFFSETFROM:-0700
TZOFFSETTO:-0600
TZNAME:MDT
DTSTART:20160313T090000
END:DAYLIGHT
BEGIN:STANDARD
TZOFFSETFROM:-0600
TZOFFSETTO:-0700
TZNAME:MST
DTSTART:20161106T080000
END:STANDARD
END:VTIMEZONE
BEGIN:VEVENT
DTSTART;TZID=America/Denver:20160702T130000
DTEND;TZID=America/Denver:20160702T140000
DTSTAMP:20260421T132802
CREATED:20150117T005326Z
LAST-MODIFIED:20160702T013113Z
UID:3020-1467464400-1467468000@artfromashes.org
SUMMARY:Coffee Hour with Catherine-CANCELLED!
DESCRIPTION:  \nCancelled due to illness :[
URL:https://artfromashes.org/events/coffee-hour-with-catherine-2016-07-02/
LOCATION:Drip Coffee\, 955 Lincoln St.\, Denver\, CO\, 80203
CATEGORIES:Meetings
END:VEVENT
BEGIN:VEVENT
DTSTART;TZID=America/Denver:20160703T133000
DTEND;TZID=America/Denver:20160703T143000
DTSTAMP:20260421T132802
CREATED:20160702T214458Z
LAST-MODIFIED:20160704T205048Z
UID:3600-1467552600-1467556200@artfromashes.org
SUMMARY:Cherry Creek Arts Festival
DESCRIPTION:Art from Ashes youth will be performing at the Cherry Creek Arts Festival as part of the SCFD Alliance Project.\nJoin AfA in the Janus Art Experience tent on Sunday\, July 3 from 1.30 to 2.30 to listen to some amazing youth poets and to try your hand at writing your own 3-minute poem!\n\n\nPark at the Cherry Creek Shopping Center at the West Deck then walk over to Clayton St between 2nd and 3rd.\n\n\nALLIANCE PROJECT\nThe Scientific Cultural Collaborative is a unique cross-curricular educational partnership of arts\, science and cultural organizations\, which serves over 20\,000 Denver area middle school kids per year. Under this partnership twenty-seven organizations work together to provide a grant for a program called the Alliance Project. The Arts Festival is active in the Alliance Project and teachers credit the Alliance Project with enriching their curriculum and boosting state art standards. This national model is based on a collaboration among Scientific and Cultural Facilities District (SCFD) Tier II arts\, science and cultural organizations. This national model is a voluntary collaboration among 27 Scientific and Cultural Facilities District Tier II arts and science organizations. Click here to view the Directory of Educational Activities for Teachers and Schools\, an annual publication listing education programs from the SCC cultural organizations.
URL:https://artfromashes.org/events/cherry-creek-arts-festival/
LOCATION:Colorado
END:VEVENT
BEGIN:VEVENT
DTSTART;TZID=America/Denver:20160709T110000
DTEND;TZID=America/Denver:20160709T123000
DTSTAMP:20260421T132802
CREATED:20160601T182852Z
LAST-MODIFIED:20160628T000250Z
UID:3439-1468062000-1468067400@artfromashes.org
SUMMARY:Adult Introductory July-Aug
DESCRIPTION:The Phoenix Rising process is designed to allow participants to recognize their inherent creative power and how perception affects our identity and our reality. Art from Ashes uses the latest research in left-brain/right-brain functioning and the role of creativity in transformation to encourage participants to access the creative subconscious and the power available through artistic expression. The introductory workshop allows adults to experience the same curriculum delivered to the youth participants and find their own power through creative expression and personal transformation. \nWorkshops are limited to six people. \nThe investment in adult workshops of $175 per 6-week series helps support our work with youth. \nVisit out Adult Workshops page to sign up: adult-workshops
URL:https://artfromashes.org/events/adult-introductory-july-aug/
LOCATION:Art from Ashes\, 1310 West 10th Ave\, Denver\, Colorado\, 80204
CATEGORIES:Adult Workshops,Workshops
END:VEVENT
BEGIN:VEVENT
DTSTART;TZID=America/Denver:20160710T160000
DTEND;TZID=America/Denver:20160710T170000
DTSTAMP:20260421T132802
CREATED:20160702T235427Z
LAST-MODIFIED:20160702T235427Z
UID:3606-1468166400-1468170000@artfromashes.org
SUMMARY:Yoga for Poetry in the Park
DESCRIPTION:Yoga Teacher/ Artist\, Courtney Chandler and Business Owner/ Philanthropist/ Freakshow\, Allison Parks have dreamed and schemed some play time. We will be putting on a transformative poetry yoga class in City Park on Sunday\, July 10th at 4:00 pm. \nWe will be perfectly situated to stick around for Jazz in the Park afterwards\, which beings at 6:00 pm\, so bring any blankets or snacks that you may want for that. I will bring wine in a box to share. \nAll proceeds from the yoga class will go to Art from Ashes\, a local nonprofit which brings poetry\, art\, and theater workshops to at-risk youth\, so please bring a minimum $10 donation for Art from Ashes. By all means\, you are welcome to donate more! \nAll peeps are welcome at this event\, so feel free to bring your significant other\, mother\, offspring\, or hair stylist! We will be situated to the south of the lake where they do the Jazz in the Park. When we get our exact location on the day of the event\, I will post a pin drop and try to make our area relatively obvious.  \nFor further information about the event\, please visit the event page on Facebook here: https://www.facebook.com/events/654405364708698/
URL:https://artfromashes.org/events/yoga-for-poetry-in-the-park/
LOCATION:City Park
CATEGORIES:Events
END:VEVENT
BEGIN:VEVENT
DTSTART;TZID=America/Denver:20160711T093000
DTEND;TZID=America/Denver:20160711T130000
DTSTAMP:20260421T132802
CREATED:20160523T055238Z
LAST-MODIFIED:20160627T232608Z
UID:3312-1468229400-1468242000@artfromashes.org
SUMMARY:Creative Transformation Camp-Littles
DESCRIPTION:PLEASE NOTE: DEADLINE FOR REGISTRATION IS THIS SATURDAY\, JULY 2!!\nThe Art from Ashes Creative Transformation Camp is a week-long half-day camp using our award-winning methods for creative transformation. The camp will feature  yoga/meditation; Drawing on Air visual art; Wingspan dance/movement; Phoenix Rising poetry/spoken word; and Casting Shadows creative play and theater—all designed to support your child’s awareness\, creative expression\, and power to create the story of their life. \nEach week will be Mon-Fri from 9.30 am to 1 pm. \nThe first week will be for “Littles” age 9 to 12\, July 11 through 15. \nThe second week will be for youth age 12 to 15\, July 18 through 22. \nOnly 12 spots are available at $175; we are asking families wishing to support an indigent youth to add an extra $25. \n\n \n\n\n\nRegister\n\n\nPer child 9-12 $175.00 USD9-12 plus Sponsorship $200.00 USDPer child 12-15 $175.00 USD12-15 plus Sponsorship $200.00 USD\n\n\n\n\n\n \n\nFor more information\, contact Director of Programs Courtney Chandler \n[vfb id=14]
URL:https://artfromashes.org/events/camp-littles/
LOCATION:Art from Ashes\, 1310 West 10th Ave\, Denver\, Colorado\, 80204
CATEGORIES:Workshops,Youth Workshops
END:VEVENT
BEGIN:VEVENT
DTSTART;TZID=America/Denver:20160718T093000
DTEND;TZID=America/Denver:20160718T130000
DTSTAMP:20260421T132802
CREATED:20160523T060054Z
LAST-MODIFIED:20160627T232321Z
UID:3379-1468834200-1468846800@artfromashes.org
SUMMARY:Creative Transformation Camp-Youth
DESCRIPTION:PLEASE NOTE: DEADLINE FOR REGISTRATION IS THIS SATURDAY\, JULY 2!!\nThe Art from Ashes Creative Transformation Camp is a week-long half-day camp using our award-winning methods for creative transformation. The camp will feature  yoga/meditation; Drawing on Air visual art; Wingspan dance/movement; Phoenix Rising poetry/spoken word; and Casting Shadows creative play and theater—all designed to support your child’s awareness\, creative expression\, and power to create the story of their life. \nEach week will be Mon-Fri from 9.30 am to 1 pm. \nThe first week will be for “Littles” age 9 to 12\, July 11 through 15. \nThe second week will be for youth age 12 to 15\, July 18 through 22. \nOnly 12 spots are available at $175; we are asking families wishing to support an indigent youth to add an extra $25. \n\n \n\n\n\nRegister\n\n\nPer child 9-12 $175.00 USD9-12 plus Sponsorship $200.00 USDPer child 12-15 $175.00 USD12-15 plus Sponsorship $200.00 USD\n\n\n\n\n\n \n\nFor more information\, contact Director of Programs Courtney Chandler \n[vfb id=14]
URL:https://artfromashes.org/events/camp-youth/
LOCATION:Art from Ashes\, 1310 West 10th Ave\, Denver\, Colorado\, 80204
CATEGORIES:Workshops,Youth Workshops
END:VEVENT
BEGIN:VEVENT
DTSTART;TZID=America/Denver:20160723T140000
DTEND;TZID=America/Denver:20160723T220000
DTSTAMP:20260421T132802
CREATED:20160613T232147Z
LAST-MODIFIED:20160613T232216Z
UID:3545-1469282400-1469311200@artfromashes.org
SUMMARY:AllSacred-July
DESCRIPTION:All Sacred Foundation is a group of artists and creatives disrupting the tattoo industry. Committed to community betterment\, they “tattoo with heart.” Once a month\, All Sacred Foundation provides tattoos to the public and donates all proceeds to three area nonprofits\, including Art from Ashes! \nThere’s also a party. And youth poets. So get your tat on and support the youth!
URL:https://artfromashes.org/events/allsacred-july/
LOCATION:All Sacred Foundation\, 7700 W 44th\, Wheat Ridge\, CO
END:VEVENT
BEGIN:VEVENT
DTSTART;TZID=America/Denver:20160723T180000
DTEND;TZID=America/Denver:20160723T210000
DTSTAMP:20260421T132802
CREATED:20160613T211813Z
LAST-MODIFIED:20160706T201239Z
UID:3527-1469296800-1469307600@artfromashes.org
SUMMARY:Star Wars Rockies Game
DESCRIPTION:It’s the Star Wars game! Watch the Rockies play the Atlanta Braves on Saturday\, July 23\, 2016. As a fundraiser and community builder for our youth\, AfA is selling 50 Rockies tickets at face value. We have guaranteed seats in Section 146 (foul ball territory!); there will be a parade on the field; and the first 20\,000 people get a FREE Charlie Blackmon X-Wing Fighter Pilot Bobblehead. Dress up in costume and you could win a prize! \nPurchase your $40 ticket from us (no markup; in fact you save the $5 Ticketmaster fee!)\, and Art from Ashes gets $15 of that amount as a donation thanks to the generosity of the Colorado Rockies Baseball Club! \nCan’t attend? Some of our young people have never attended a baseball game and would love the opportunity. Please consider buying a ticket for a young person or add one or more tickets onto your purchase. \nYou can buy your tickets through PayPal below (you don’t need an account) or mail a check to Art from Ashes\, 853 Inca St.\, Suite 1A\, Denver CO 80204. Be sure you include a note about how many tickets you need and whether you are donating any to a young person. \nPurchase your tickets by July 18 and we’ll mail them out\,** or you can stop by the office after the 19th to pick them up. \n**Seats are in rows 14–17; best seat selection will depend on time of payment \nCheck out our Facebook event HERE \n\n \n\n\n\nChoose an Option\n\n\nTicket no shipping $40.00 USDTicket w/shipping $41.50 USD\n\n\nNumber of tickets for youth
URL:https://artfromashes.org/events/starwars-rockies-game/
LOCATION:Colorado
CATEGORIES:Events,Public Events
END:VEVENT
BEGIN:VEVENT
DTSTART;TZID=America/Denver:20160731T160000
DTEND;TZID=America/Denver:20160731T180000
DTSTAMP:20260421T132802
CREATED:20160714T083953Z
LAST-MODIFIED:20160714T084222Z
UID:3617-1469980800-1469988000@artfromashes.org
SUMMARY:Denver County Fair
DESCRIPTION:Join Art from Ashes at this year’s Denver County Fair\, where we will be hosting a booth and demonstrating workshops just like those we use to connect with youth. You can meet some of our staff\, find out more about our organization and discover your own inner poet. Come visit us and see if you might be interested in becoming involved with the organization! \nCheck out more about the fair HERE
URL:https://artfromashes.org/events/denver-county-fair/
LOCATION:National Western Complex\, 4655 Humboldt St.\, Denver\, CO\,  80216\, United States
CATEGORIES:Events
END:VEVENT
END:VCALENDAR