BEGIN:VCALENDAR
VERSION:2.0
PRODID:-//Art from Ashes - ECPv6.15.3//NONSGML v1.0//EN
CALSCALE:GREGORIAN
METHOD:PUBLISH
X-ORIGINAL-URL:https://artfromashes.org
X-WR-CALDESC:Events for Art from Ashes
REFRESH-INTERVAL;VALUE=DURATION:PT1H
X-Robots-Tag:noindex
X-PUBLISHED-TTL:PT1H
BEGIN:VTIMEZONE
TZID:America/Denver
BEGIN:DAYLIGHT
TZOFFSETFROM:-0700
TZOFFSETTO:-0600
TZNAME:MDT
DTSTART:20160313T090000
END:DAYLIGHT
BEGIN:STANDARD
TZOFFSETFROM:-0600
TZOFFSETTO:-0700
TZNAME:MST
DTSTART:20161106T080000
END:STANDARD
END:VTIMEZONE
BEGIN:VEVENT
DTSTART;TZID=America/Denver:20160804T080000
DTEND;TZID=America/Denver:20160807T170000
DTSTAMP:20260421T103535
CREATED:20160702T001700Z
LAST-MODIFIED:20160702T001700Z
UID:3593-1470297600-1470589200@artfromashes.org
SUMMARY:Four-Day Yoga Festival
DESCRIPTION:Join Art from Ashes and Conscious Real Estate for four days of poetry and yoga! Come to our booth at the festival and tap your own creative side with a three-minute poem\, guided by special AfA facilitators. \nWhen you’re done\, you will have the chance to display your poem for other visitors and learn more about AfA’s important mission of helping youth access their own creative genius through creative workshops providing connection\, expression and transformation.
URL:https://artfromashes.org/events/four-day-yoga-festival/
LOCATION:Union Station Hotel & Oxford Hotel\, 1600 17th St.\,\, Denver\, CO\, 80202\, United States
CATEGORIES:Events
END:VEVENT
BEGIN:VEVENT
DTSTART;TZID=America/Denver:20160820T173000
DTEND;TZID=America/Denver:20160820T190000
DTSTAMP:20260421T103535
CREATED:20160714T085549Z
LAST-MODIFIED:20161121T074720Z
UID:3620-1471714200-1471719600@artfromashes.org
SUMMARY:Mad Hatter Tea Party 2016
DESCRIPTION: Check out our photos from the event here!\n [slideshow_deploy id=’4139′]\nJoin us for a special evening of madness and whimsy at Fleur Salon on Saturday\, August 20\nBrought to you by Art from Ashes and the amazing youth poets we serve! \nTickets are available HERE! For a $25 ticket you will get FUN and an adult beverage and cookies and cupcakes and poetry and our eternal devotion. \nAll proceeds will benefit the youth programs of Art from Ashes. \nCheck out our Facebook event HERE \nThe 2016 Mad Hatter Tea Party and Fundraiser is hosted by Fleur\nSalon and sponsored by Joan Van de Griek\, CPA (the best damn accountant in the business!) \nWe would LOVE to have other business sponsors support out youth programs\, either through a tax-deductible business donation or a silent auction item! Please use the contact form below\, if you’re interested!
URL:https://artfromashes.org/events/mad-hatter-2016/
LOCATION:Fleur Salon\, 30 E 9th Ave.\, Denver\, CO\, 80203\, United States
CATEGORIES:Events
END:VEVENT
BEGIN:VEVENT
DTSTART;TZID=America/Denver:20160827T130000
DTEND;TZID=America/Denver:20160827T140000
DTSTAMP:20260421T103535
CREATED:20150117T005326Z
LAST-MODIFIED:20160812T213509Z
UID:3028-1472302800-1472306400@artfromashes.org
SUMMARY:Coffee Hour with Catherine-Cancelled
DESCRIPTION:Meet and Greet with Catherine O’Neill Thorn\, Executive Director of Art from Ashes\, is cancelled! I’m in California\, yo! \n*Just in case there’s a cancellation due to inclement weather\, illness or travel\, please email director [at] artfromashes.org for confirmation (but use the typical email format… the word “at” is there because of hackers… grr…) or check our Facebook page!
URL:https://artfromashes.org/events/coffee-hour-with-catherine-2016-08-27/
LOCATION:Drip Coffee\, 955 Lincoln St.\, Denver\, CO\, 80203
CATEGORIES:Meetings
END:VEVENT
END:VCALENDAR