BEGIN:VCALENDAR
VERSION:2.0
PRODID:-//Art from Ashes - ECPv6.15.3//NONSGML v1.0//EN
CALSCALE:GREGORIAN
METHOD:PUBLISH
X-WR-CALNAME:Art from Ashes
X-ORIGINAL-URL:https://artfromashes.org
X-WR-CALDESC:Events for Art from Ashes
REFRESH-INTERVAL;VALUE=DURATION:PT1H
X-Robots-Tag:noindex
X-PUBLISHED-TTL:PT1H
BEGIN:VTIMEZONE
TZID:America/Denver
BEGIN:DAYLIGHT
TZOFFSETFROM:-0700
TZOFFSETTO:-0600
TZNAME:MDT
DTSTART:20160313T090000
END:DAYLIGHT
BEGIN:STANDARD
TZOFFSETFROM:-0600
TZOFFSETTO:-0700
TZNAME:MST
DTSTART:20161106T080000
END:STANDARD
END:VTIMEZONE
BEGIN:VEVENT
DTSTART;TZID=America/Denver:20161101T163000
DTEND;TZID=America/Denver:20161101T190000
DTSTAMP:20260421T090129
CREATED:20161019T230231Z
LAST-MODIFIED:20161019T231021Z
UID:3823-1478017800-1478026800@artfromashes.org
SUMMARY:Donor Event
DESCRIPTION:2016 Art from Ashes Donor Update and Appreciation Party!\nTuesday\, November 1 from 4.30 pm to 7 pm  ::  Add to Calendar\n\n\n\n\n We want to celebrate the youth with you!\n\n\nPlease join Art from Ashes youth\, board and staff at The Posner Center! Meet the youth your generosity helps us serve\, hear some amazing poetry while enjoying wine\, beer and food. Plus\, we want to introduce you to our new program Drawing on Air and share the (he)art of our work. \nThe impact of your contributions past and present empowers struggling youth who learn to express themselves in positive\, healthy ways through the power of creativity. \n\nRSVP HERE!\n\nTo make a donation in lieu of attending: \nPay with credit or through your bank here: ColoradoGives.org \nOr through Paypal Cares here: Paypal Cares
URL:https://artfromashes.org/events/donor-event/
LOCATION:Colorado
CATEGORIES:Events,Public Events
END:VEVENT
BEGIN:VEVENT
DTSTART;TZID=America/Denver:20161102T180000
DTEND;TZID=America/Denver:20161102T190000
DTSTAMP:20260421T090129
CREATED:20161029T223907Z
LAST-MODIFIED:20161029T224046Z
UID:3968-1478109600-1478113200@artfromashes.org
SUMMARY:Adult Workshop: Synesthesia
DESCRIPTION:SYNESTHESIA :: The Art and Science of Perception (must have completed the Introductory Session)\nPoetry prompts will focus on each of the five senses\, using science and creativity to illuminate the role of experience and expectation in our lives. By deliberately managing your perceptions\, you can choose to perceive yourself and what happens to you differently. Discover how powerful your life can be\, when you begin to influence reality by changing your perceptions!\n:: Wednesdays from 6 to 7.30 pm\, Nov 2–Dec 7 with Catherine O’Neill Thorn\nPurchase in advance to secure your spot\, and we’ll ensure you are registered for one session of your choice.
URL:https://artfromashes.org/events/adult-workshop-synesthesia/
LOCATION:Art from Ashes\, 1310 West 10th Ave\, Denver\, Colorado\, 80204
END:VEVENT
BEGIN:VEVENT
DTSTART;TZID=America/Denver:20161107T180000
DTEND;TZID=America/Denver:20161107T193000
DTSTAMP:20260421T090129
CREATED:20161106T222131Z
LAST-MODIFIED:20161106T222131Z
UID:3979-1478541600-1478547000@artfromashes.org
SUMMARY:Volunteer Meeting
DESCRIPTION:  \n\n\nIt’s  It’s time for the agency-wide monthly meeting!\nWe have so much going down this month\, please make time to attend as we plan our move and our next event!
URL:https://artfromashes.org/events/volunteer-meeting/
LOCATION:Art from Ashes\, 1310 West 10th Ave\, Denver\, Colorado\, 80204
END:VEVENT
BEGIN:VEVENT
DTSTART;TZID=America/Denver:20161117T090000
DTEND;TZID=America/Denver:20161117T160000
DTSTAMP:20260421T090129
CREATED:20161115T013048Z
LAST-MODIFIED:20161115T013048Z
UID:3986-1479373200-1479398400@artfromashes.org
SUMMARY:Brighton Arts Culture & Symposium
DESCRIPTION:The City of Brighton will host an Arts & Culture Symposium from 9 a.m. to 4 p.m.\, Thursday\, November 17 at the Armory Performing Arts Center in Brighton. The symposium will feature a unique and nontraditional blend of topics relating to the ever-changing arts and culture community.  Educational and inspirational presentations will be mixed with some of Colorado’s favorite musicians\, dancers\, and poets. Attendees will also have an opportunity to visit the Artists’ Loft where artists will display some of their finest artwork. During breaks\, attendees can visit the Atrium and watch art in progress as artists take a blank canvas and have a finished piece by end of day. There will also be table space for informational material from attending organizations. \nLearn more here
URL:https://artfromashes.org/events/brighton-arts-culture-symposium/
LOCATION:Armory Performing Arts Center\, 300 Strong St\, \, Brighton\, CO\, 80610\, United States
CATEGORIES:Events
END:VEVENT
BEGIN:VEVENT
DTSTART;TZID=America/Denver:20161119T100000
DTEND;TZID=America/Denver:20161119T113000
DTSTAMP:20260421T090129
CREATED:20161115T021047Z
LAST-MODIFIED:20161115T021047Z
UID:4050-1479549600-1479555000@artfromashes.org
SUMMARY:Volunteer Orientation
DESCRIPTION:If you’ve filled out a volunteer application [here] and contacted our volunteer coordinator [here]\, please join us from 10 to 11.30 a.m. for an orientation!
URL:https://artfromashes.org/events/volunteer-orientation-2/
LOCATION:Art from Ashes\, 1310 West 10th Ave\, Denver\, Colorado\, 80204
CATEGORIES:Meetings
END:VEVENT
END:VCALENDAR