BEGIN:VCALENDAR
VERSION:2.0
PRODID:-//Art from Ashes - ECPv6.15.3//NONSGML v1.0//EN
CALSCALE:GREGORIAN
METHOD:PUBLISH
X-ORIGINAL-URL:https://artfromashes.org
X-WR-CALDESC:Events for Art from Ashes
REFRESH-INTERVAL;VALUE=DURATION:PT1H
X-Robots-Tag:noindex
X-PUBLISHED-TTL:PT1H
BEGIN:VTIMEZONE
TZID:America/Denver
BEGIN:DAYLIGHT
TZOFFSETFROM:-0700
TZOFFSETTO:-0600
TZNAME:MDT
DTSTART:20150308T090000
END:DAYLIGHT
BEGIN:STANDARD
TZOFFSETFROM:-0600
TZOFFSETTO:-0700
TZNAME:MST
DTSTART:20151101T080000
END:STANDARD
END:VTIMEZONE
BEGIN:VEVENT
DTSTART;VALUE=DATE:20150305
DTEND;VALUE=DATE:20150309
DTSTAMP:20260425T074553
CREATED:20150117T002346Z
LAST-MODIFIED:20150306T200003Z
UID:1355-1425513600-1425859199@artfromashes.org
SUMMARY:Boulder International Film Festival
DESCRIPTION:Art from Ashes has been selected as the first Nonprofit Partner in the Call 2 Action program of the Boulder International Film Festival 2015! A collaboration of Boulder International Film Festival\, Philanthropiece Foundation\, the Twisted Foundation\, and committed local leaders\, Call 2 Action offers concrete ways for filmgoers to take the energy and passion inspired by film and move from concern to action. Because of our agency’s connection with the Jimmy Santiago Baca film “A Place to Stand\,” Art from Ashes has been provided a platform “to raise awareness for the incredible service that [you] provide for our community by introducing the power of poetry and art to transform lives.”\n\nArt from Ashes will introduce the film at 10am on Sunday\, followed by the screening.\n\n\nPost-screening\, there will be a TalkBack (Panel discussion) in the “TalkBack Cafe” just across the street from the Boulder Theater on the Pearl Street Mall. The TalkBack is open to anyone who wishes to find out more about the film and our work with youth\, and will feature Jimmy Santiago Baca\, Art from Ashes Executive Director Catherine O’Neill Thorn\, and Art from Ashes youth poet Prinjastin Sykes. \n\nDownload the program here. (we’re on pages 15 and 35 :D)\n\n\n Boulder International Film Festival March 5-8 in Boulder and the film “A Place to Stand\,” based on the life of Jimmy Santiago Baca\, at 10am on Sunday the 8th!\nBuy tickets here!
URL:https://artfromashes.org/events/film-festival/
CATEGORIES:Events,Public Events
END:VEVENT
END:VCALENDAR