BEGIN:VCALENDAR
VERSION:2.0
PRODID:-//Art from Ashes - ECPv6.15.3//NONSGML v1.0//EN
CALSCALE:GREGORIAN
METHOD:PUBLISH
X-WR-CALNAME:Art from Ashes
X-ORIGINAL-URL:https://artfromashes.org
X-WR-CALDESC:Events for Art from Ashes
REFRESH-INTERVAL;VALUE=DURATION:PT1H
X-Robots-Tag:noindex
X-PUBLISHED-TTL:PT1H
BEGIN:VTIMEZONE
TZID:America/Denver
BEGIN:DAYLIGHT
TZOFFSETFROM:-0700
TZOFFSETTO:-0600
TZNAME:MDT
DTSTART:20150308T090000
END:DAYLIGHT
BEGIN:STANDARD
TZOFFSETFROM:-0600
TZOFFSETTO:-0700
TZNAME:MST
DTSTART:20151101T080000
END:STANDARD
END:VTIMEZONE
BEGIN:VEVENT
DTSTART;TZID=America/Denver:20151111T163000
DTEND;TZID=America/Denver:20151111T183000
DTSTAMP:20260423T110926
CREATED:20151109T053102Z
LAST-MODIFIED:20151123T202112Z
UID:2193-1447259400-1447266600@artfromashes.org
SUMMARY:Wednesday Drop-In Wordshops
DESCRIPTION:Join Art from Ashes facilitators\, other youth from the community\, and guest poets for a FREE poetry and spoken word workshop at Art from Ashes on Inca between 8th and 9th. \nEvery Wednesday from 4:30 p.m. – 6:30 p.m. \nWhile this wordshop is geared toward middle school age youth\, all young people between the age of 12 and 24 are welcome. \nWe’ll provide the writing materials\, art supplies\, food and drinks! You provide the creative genius! \nEmail us using the form below if you’d like to let us know you’re coming or want more information…and if you want to be sure you get some food!\n(or just show up — we promise to feed you) \n[vfb id=5]
URL:https://artfromashes.org/events/wednesday-wordshop/
LOCATION:Art from Ashes\, 1310 West 10th Ave\, Denver\, Colorado\, 80204
CATEGORIES:Workshops,Youth Workshops
END:VEVENT
END:VCALENDAR