BEGIN:VCALENDAR
VERSION:2.0
PRODID:-//Art from Ashes - ECPv6.15.3//NONSGML v1.0//EN
CALSCALE:GREGORIAN
METHOD:PUBLISH
X-WR-CALNAME:Art from Ashes
X-ORIGINAL-URL:https://artfromashes.org
X-WR-CALDESC:Events for Art from Ashes
REFRESH-INTERVAL;VALUE=DURATION:PT1H
X-Robots-Tag:noindex
X-PUBLISHED-TTL:PT1H
BEGIN:VTIMEZONE
TZID:America/Denver
BEGIN:DAYLIGHT
TZOFFSETFROM:-0700
TZOFFSETTO:-0600
TZNAME:MDT
DTSTART:20200308T090000
END:DAYLIGHT
BEGIN:STANDARD
TZOFFSETFROM:-0600
TZOFFSETTO:-0700
TZNAME:MST
DTSTART:20201101T080000
END:STANDARD
END:VTIMEZONE
BEGIN:VEVENT
DTSTART;TZID=America/Denver:20201002T163000
DTEND;TZID=America/Denver:20201002T181500
DTSTAMP:20260422T052053
CREATED:20191126T034500Z
LAST-MODIFIED:20200916T143550Z
UID:8477-1601656200-1601662500@artfromashes.org
SUMMARY:First Friday Youth Workshop
DESCRIPTION:FREE PIZZA! FREE POETRY PERFORMANCE! RESPECT FOR YOUR CREATIVE GENIUS!\nAll youth ages 12 to 24 are invited to join us at Art from Ashes every First Friday of the month at 4.30 pm for a FREE one-hour Phoenix Rising poetry and spoken word workshop\, followed at 5.30 by a FREE 45-minute performance workshop\, featuring a performance poet. All youth are welcome; free pizza provided.\nYou don’t need to already write poetry/spoken word\, because you ARE poetry! \nWE BELIEVE IN YOUR CREATIVE GENIUS AND THAT YOUR WORDS ARE POWERFUL! \n\n\nWorkshops are at our location just off the 10th and Osage light rail station. Just DROP IN! \nThe first 10 youth willing to perform their workshop poems will receive $10! \nContact Sarah Lanzarotta at Art from Ashes\, for more information.
URL:https://artfromashes.org/events/first-friday-youth-workshop-2020-05-01-2020-10-02/
LOCATION:Art from Ashes\, 1310 West 10th Ave\, Denver\, Colorado\, 80204
CATEGORIES:First Friday Youth Workshops,Workshops,Youth Workshops
ATTACH;FMTTYPE=image/jpeg:https://artfromashes.org/wp-content/uploads/2020/08/img_0012.jpg
ORGANIZER;CN="Kree Thawley":MAILTO:programs@artfromashes.org
END:VEVENT
END:VCALENDAR